BEGIN:VCALENDAR
VERSION:2.0
PRODID:-//Above and Beyond Holistic Wellness Center - ECPv6.3.3.1//NONSGML v1.0//EN
CALSCALE:GREGORIAN
METHOD:PUBLISH
X-WR-CALNAME:Above and Beyond Holistic Wellness Center
X-ORIGINAL-URL:https://aboveandbeyondholisticwellness.com
X-WR-CALDESC:Events for Above and Beyond Holistic Wellness Center
REFRESH-INTERVAL;VALUE=DURATION:PT1H
X-Robots-Tag:noindex
X-PUBLISHED-TTL:PT1H
BEGIN:VTIMEZONE
TZID:UTC
BEGIN:STANDARD
TZOFFSETFROM:+0000
TZOFFSETTO:+0000
TZNAME:UTC
DTSTART:20250101T000000
END:STANDARD
END:VTIMEZONE
BEGIN:VEVENT
DTSTART;TZID=UTC:20250908T150000
DTEND;TZID=UTC:20250908T180000
DTSTAMP:20260422T174651
CREATED:20250820T011720Z
LAST-MODIFIED:20250904T212422Z
UID:7180-1757343600-1757354400@aboveandbeyondholisticwellness.com
SUMMARY:Free Shockwave Therapy Workshop
DESCRIPTION:Registrations are closed for this event
URL:https://aboveandbeyondholisticwellness.com/event/free-shockwave-therapy-workshop/
LOCATION:Above and Beyond Holistic Wellness\, 407 Sette Drive\, Suite S4\, Paramus\, NJ\, 07652\, United States
ATTACH;FMTTYPE=image/jpeg:https://aboveandbeyondholisticwellness.com/wp-content/uploads/2025/08/ABH-Shockwave-Therapy-Workshop-Flyer-2025-copy-2-scaled.jpg
END:VEVENT
END:VCALENDAR