BEGIN:VCALENDAR
VERSION:2.0
PRODID:-//Above and Beyond Holistic Wellness Center - ECPv6.3.3.1//NONSGML v1.0//EN
CALSCALE:GREGORIAN
METHOD:PUBLISH
X-WR-CALNAME:Above and Beyond Holistic Wellness Center
X-ORIGINAL-URL:https://aboveandbeyondholisticwellness.com
X-WR-CALDESC:Events for Above and Beyond Holistic Wellness Center
REFRESH-INTERVAL;VALUE=DURATION:PT1H
X-Robots-Tag:noindex
X-PUBLISHED-TTL:PT1H
BEGIN:VTIMEZONE
TZID:UTC
BEGIN:STANDARD
TZOFFSETFROM:+0000
TZOFFSETTO:+0000
TZNAME:UTC
DTSTART:20260101T000000
END:STANDARD
END:VTIMEZONE
BEGIN:VEVENT
DTSTART;TZID=UTC:20260325T183000
DTEND;TZID=UTC:20260325T193000
DTSTAMP:20260419T132007
CREATED:20260211T164840Z
LAST-MODIFIED:20260318T153519Z
UID:7304-1774463400-1774467000@aboveandbeyondholisticwellness.com
SUMMARY:Dinner with the Doc
DESCRIPTION:
URL:https://aboveandbeyondholisticwellness.com/event/dinner-with-the-doc-5/
CATEGORIES:Favale's Trattoria Events
ATTACH;FMTTYPE=image/jpeg:https://aboveandbeyondholisticwellness.com/wp-content/uploads/2026/02/ABH-Dinner-with-the-Doc-Flyer-March-2026-2-copy-1-scaled.jpg
END:VEVENT
END:VCALENDAR